View In:
ArcGIS JavaScript
ArcGIS Online Map Viewer
ArcGIS Earth
Service Description: Cupertino 2000 Aerial Photo
Name: Public/2000Aerial_ImageService
Description: Cupertino 2000 Aerial Photo
Single Fused Map Cache: true
Tile Info:
- Height: 256
- Width: 256
- DPI: 96
-
Levels of Detail: 12
- Format: PNG
- Compression Quality: 0.0
- LERC Error: NaN
- Origin: X: -1.158606E8
Y: 1.51575E8
- Spatial Reference: 102643
(2227)
LatestVCSWkid(0)
Storage Info:
- Storage Format: esriMapCacheStorageModeCompactV2
- Packet Size: 128
Extent:
XMin: 6096597.76
YMin: 1926562.0899999999
XMax: 6128897.76
YMax: 1950762.0899999999
Spatial Reference: 102643
(2227)
LatestVCSWkid(0)
Initial Extent:
XMin: 6096597.76
YMin: 1926562.0899999999
XMax: 6128897.76
YMax: 1950762.0899999999
Spatial Reference: 102643
(2227)
LatestVCSWkid(0)
Full Extent:
XMin: 6096597.76
YMin: 1926562.0899999999
XMax: 6128897.76
YMax: 1950762.0899999999
Spatial Reference: 102643
(2227)
LatestVCSWkid(0)
Pixel Size X: 0.4
Pixel Size Y: 0.4
Band Count: 1
Pixel Type: U8
RasterFunction Infos: {"rasterFunctionInfos": [{
"name": "None",
"description": "",
"help": ""
}]}
Mensuration Capabilities:
Inspection Capabilities:
Has Histograms: true
Has Colormap: false
Has Multi Dimensions : false
Rendering Rule:
Min Scale: 35000
Max Scale: 250
Min LOD: 4
Max LOD: 10
Resampling: false
Copyright Text:
Service Data Type: esriImageServiceDataTypeGeneric
Min Values: 0
Max Values: 251
Mean Values: 99.661631741304
Standard Deviation Values: 58.722377239132
Object ID Field:
Fields:
None
Default Mosaic Method: Center
Allowed Mosaic Methods:
SortField:
SortValue: null
Mosaic Operator: First
Default Compression Quality: 75
Default Resampling Method: Bilinear
Max Record Count: null
Max Image Height: 4100
Max Image Width: 15000
Max Download Image Count: null
Max Mosaic Image Count: null
Allow Raster Function: true
Allow Copy: true
Allow Analysis: true
Allow Compute TiePoints: false
Supports Statistics: false
Supports Advanced Queries: false
Use StandardizedQueries: true
Raster Type Infos:
Name: Raster Dataset
Description: Supports all ArcGIS Raster Datasets
Help:
Has Raster Attribute Table: false
Edit Fields Info: null
Ownership Based AccessControl For Rasters: null
Child Resources:
Info
Histograms
Statistics
Key Properties
Legend
Raster Function Infos
Supported Operations:
Export Image
Identify
Measure
Compute Histograms
Compute Statistics Histograms
Get Samples
Compute Class Statistics
Query Boundary
Compute Pixel Location
Compute Angles
Validate
Project