{
 "currentVersion": 11.3,
 "serviceDescription": "Cupertino 2000 Aerial Photo",
 "name": "Public/2000Aerial_ImageService",
 "description": "Cupertino 2000 Aerial Photo",
 "extent": {
  "xmin": 6096597.76,
  "ymin": 1926562.0899999999,
  "xmax": 6128897.76,
  "ymax": 1950762.0899999999,
  "spatialReference": {
   "wkid": 102643,
   "latestWkid": 2227
  }
 },
 "initialExtent": {
  "xmin": 6096597.76,
  "ymin": 1926562.0899999999,
  "xmax": 6128897.76,
  "ymax": 1950762.0899999999,
  "spatialReference": {
   "wkid": 102643,
   "latestWkid": 2227
  }
 },
 "fullExtent": {
  "xmin": 6096597.76,
  "ymin": 1926562.0899999999,
  "xmax": 6128897.76,
  "ymax": 1950762.0899999999,
  "spatialReference": {
   "wkid": 102643,
   "latestWkid": 2227
  }
 },
 "sortableFields": "",
 "bandCount": 1,
 "pixelType": "U8",
 "minValues": [
  0
 ],
 "maxValues": [
  251
 ],
 "meanValues": [
  99.661631741304
 ],
 "stdvValues": [
  58.722377239132
 ],
 "hasMultidimensions": false,
 "pixelSizeX": 0.4,
 "pixelSizeY": 0.4,
 "meanPixelSize": 0.1219202438404877,
 "datasetFormat": "MrSID",
 "uncompressedSize": 4885375000,
 "blockWidth": 1024,
 "blockHeight": 128,
 "compressionType": "Wavelet (MG2)",
 "bandNames": [
  "Band_1"
 ],
 "allowCopy": true,
 "allowAnalysis": true,
 "itemAccess": false,
 "inspectionCapabilities": "",
 "minPixelSize": 0.21701388888888887,
 "maxPixelSize": 30.381944444444443,
 "copyrightText": "",
 "serviceDataType": "esriImageServiceDataTypeGeneric",
 "serviceSourceType": "esriImageServiceSourceTypeDataset",
 "objectIdField": "",
 "fields": [],
 "capabilities": "Mensuration,Image,Metadata",
 "defaultMosaicMethod": "Center",
 "allowedMosaicMethods": "",
 "sortField": "",
 "sortValue": null,
 "sortAscending": true,
 "mosaicOperator": "First",
 "defaultCompressionQuality": 75,
 "defaultResamplingMethod": "Bilinear",
 "maxImageHeight": 4100,
 "maxImageWidth": 15000,
 "singleFusedMapCache": true,
 "tileInfo": {
  "rows": 256,
  "cols": 256,
  "dpi": 96,
  "format": "PNG",
  "compressionQuality": 0,
  "origin": {
   "x": -115860600,
   "y": 151575000
  },
  "spatialReference": {
   "wkid": 102643,
   "latestWkid": 2227
  },
  "lods": [
   {
    "level": 0,
    "resolution": 434.02777777777777,
    "scale": 500000
   },
   {
    "level": 1,
    "resolution": 217.01388888888889,
    "scale": 250000
   },
   {
    "level": 2,
    "resolution": 108.50694444444444,
    "scale": 125000
   },
   {
    "level": 3,
    "resolution": 54.25347222222222,
    "scale": 62500
   },
   {
    "level": 4,
    "resolution": 27.12673611111111,
    "scale": 31250
   },
   {
    "level": 5,
    "resolution": 13.563368055555555,
    "scale": 15625
   },
   {
    "level": 6,
    "resolution": 6.781684027777778,
    "scale": 7812.5
   },
   {
    "level": 7,
    "resolution": 3.390842013888889,
    "scale": 3906.25
   },
   {
    "level": 8,
    "resolution": 1.6954210069444444,
    "scale": 1953.125
   },
   {
    "level": 9,
    "resolution": 0.8477105034722222,
    "scale": 976.5625
   },
   {
    "level": 10,
    "resolution": 0.4238552517361111,
    "scale": 488.28125
   },
   {
    "level": 11,
    "resolution": 0.21192762586805555,
    "scale": 244.140625
   }
  ]
 },
 "storageInfo": {
  "storageFormat": "esriMapCacheStorageModeCompactV2",
  "packetSize": 128
 },
 "cacheType": "Map",
 "allowRasterFunction": true,
 "rasterFunctionInfos": [
  {
   "name": "None",
   "description": "",
   "help": ""
  }
 ],
 "rasterTypeInfos": [
  {
   "name": "Raster Dataset",
   "description": "Supports all ArcGIS Raster Datasets",
   "help": ""
  }
 ],
 "mensurationCapabilities": "",
 "hasHistograms": true,
 "hasColormap": false,
 "hasRasterAttributeTable": false,
 "minScale": 35000,
 "maxScale": 250,
 "minLOD": 4,
 "maxLOD": 10,
 "exportTilesAllowed": false,
 "supportsStatistics": false,
 "supportsAdvancedQueries": false,
 "editFieldsInfo": null,
 "ownershipBasedAccessControlForRasters": null,
 "allowComputeTiePoints": false,
 "useStandardizedQueries": true,
 "advancedQueryCapabilities": {
  "useStandardizedQueries": true,
  "supportsStatistics": false,
  "supportsOrderBy": false,
  "supportsDistinct": false,
  "supportsPagination": false
 },
 "spatialReference": {
  "wkid": 102643,
  "latestWkid": 2227
 },
 "resampling": false
}
