View In:
ArcGIS JavaScript
ArcGIS Online Map Viewer
ArcGIS Earth
Service Description: Public/2019Aerial_ImageService
Name: Public/2019Aerial_ImageService
Description:
Single Fused Map Cache: true
Tile Info:
- Height: 256
- Width: 256
- DPI: 96
-
Levels of Detail: 9
- Format: PNG
- Compression Quality: 0.0
- LERC Error: NaN
- Origin: X: -1.158606E8
Y: 1.51575E8
- Spatial Reference: 102643
(2227)
LatestVCSWkid(0)
Storage Info:
- Storage Format: esriMapCacheStorageModeCompactV2
- Packet Size: 128
Extent:
XMin: 6098000.0
YMin: 1927000.0
XMax: 6128000.0
YMax: 1951000.0
Spatial Reference: 102643
(2227)
LatestVCSWkid(0)
Initial Extent:
XMin: 6098000.0
YMin: 1927000.0
XMax: 6128000.0
YMax: 1951000.0
Spatial Reference: 102643
(2227)
LatestVCSWkid(0)
Full Extent:
XMin: 6098000.0
YMin: 1927000.0
XMax: 6128000.0
YMax: 1951000.0
Spatial Reference: 102643
(2227)
LatestVCSWkid(0)
Pixel Size X: 0.25
Pixel Size Y: 0.25
Band Count: 3
Pixel Type: U8
RasterFunction Infos: {"rasterFunctionInfos": [{
"name": "None",
"description": "",
"help": ""
}]}
Mensuration Capabilities: Basic
Inspection Capabilities:
Has Histograms: true
Has Colormap: false
Has Multi Dimensions : false
Rendering Rule:
Min Scale: -1
Max Scale: -1
Min LOD: 0
Max LOD: 8
Copyright Text:
Service Data Type: esriImageServiceDataTypeRGB
Min Values: 31, 52, 42
Max Values: 255, 255, 255
Mean Values: 124.96574107465, 131.13451135954, 121.07789397764
Standard Deviation Values: 52.625395883421, 50.278771466436, 52.997169990583
Object ID Field:
Fields:
None
Default Mosaic Method: Center
Allowed Mosaic Methods:
SortField:
SortValue: null
Mosaic Operator: First
Default Compression Quality: 75
Default Resampling Method: Bilinear
Max Record Count: null
Max Image Height: 4100
Max Image Width: 15000
Max Download Image Count: null
Max Mosaic Image Count: null
Allow Raster Function: true
Allow Copy: true
Allow Analysis: true
Allow Compute TiePoints: false
Supports Statistics: false
Supports Advanced Queries: false
Use StandardizedQueries: true
Raster Type Infos:
Name: Raster Dataset
Description: Supports all ArcGIS Raster Datasets
Help:
Has Raster Attribute Table: false
Edit Fields Info: null
Ownership Based AccessControl For Rasters: null
Child Resources:
Info
Histograms
Statistics
Key Properties
Legend
Raster Function Infos
Supported Operations:
Export Image
Identify
Measure
Compute Histograms
Compute Statistics Histograms
Get Samples
Compute Class Statistics
Query Boundary
Compute Pixel Location
Compute Angles
Validate
Project