View In:
ArcGIS JavaScript
ArcGIS Online Map Viewer
ArcGIS Earth
Service Description: Public/2004Aerial_ImageService
Name: Public/2004Aerial_ImageService
Description:
Single Fused Map Cache: true
Tile Info:
- Height: 256
- Width: 256
- DPI: 96
-
Levels of Detail: 9
- Format: PNG
- Compression Quality: 0.0
- LERC Error: NaN
- Origin: X: -1.158606E8
Y: 1.51575E8
- Spatial Reference: 103005
(6420)
LatestVCSWkid(0)
Storage Info:
- Storage Format: esriMapCacheStorageModeCompactV2
- Packet Size: 128
Extent:
XMin: 6098297.713666
YMin: 1926561.642002
XMax: 6128898.213666
YMax: 1950762.142002
Spatial Reference: 103005
(6420)
LatestVCSWkid(0)
Initial Extent:
XMin: 6098297.713666
YMin: 1926561.642002
XMax: 6128898.213666
YMax: 1950762.142002
Spatial Reference: 103005
(6420)
LatestVCSWkid(0)
Full Extent:
XMin: 6098297.713666
YMin: 1926561.642002
XMax: 6128898.213666
YMax: 1950762.142002
Spatial Reference: 103005
(6420)
LatestVCSWkid(0)
Pixel Size X: 0.5
Pixel Size Y: 0.5
Band Count: 1
Pixel Type: U8
RasterFunction Infos: {"rasterFunctionInfos": [{
"name": "None",
"description": "",
"help": ""
}]}
Mensuration Capabilities:
Inspection Capabilities:
Has Histograms: true
Has Colormap: false
Has Multi Dimensions : false
Rendering Rule:
Min Scale: 0
Max Scale: 0
Min LOD: 0
Max LOD: 8
Resampling: false
Copyright Text:
Service Data Type: esriImageServiceDataTypeGeneric
Min Values: 84
Max Values: 255
Mean Values: 166.59701754386
Standard Deviation Values: 57.079189911294
Object ID Field:
Fields:
None
Default Mosaic Method: Center
Allowed Mosaic Methods:
SortField:
SortValue: null
Mosaic Operator: First
Default Compression Quality: 75
Default Resampling Method: Bilinear
Max Record Count: null
Max Image Height: 4100
Max Image Width: 15000
Max Download Image Count: null
Max Mosaic Image Count: null
Allow Raster Function: true
Allow Copy: true
Allow Analysis: true
Allow Compute TiePoints: false
Supports Statistics: false
Supports Advanced Queries: false
Use StandardizedQueries: true
Raster Type Infos:
Name: Raster Dataset
Description: Supports all ArcGIS Raster Datasets
Help:
Has Raster Attribute Table: false
Edit Fields Info: null
Ownership Based AccessControl For Rasters: null
Child Resources:
Info
Histograms
Statistics
Key Properties
Legend
Raster Function Infos
Supported Operations:
Export Image
Identify
Measure
Compute Histograms
Compute Statistics Histograms
Get Samples
Compute Class Statistics
Query Boundary
Compute Pixel Location
Compute Angles
Validate
Project