{
 "currentVersion": 11.3,
 "serviceDescription": "Public/Cupertino2018imagery",
 "name": "Public/Cupertino2018imagery",
 "description": "",
 "extent": {
  "xmin": 6098003.99996306,
  "ymin": 1927000.0002201498,
  "xmax": 6127123.24996306,
  "ymax": 1950999.0002201498,
  "spatialReference": {
   "wkid": 102643,
   "latestWkid": 2227
  }
 },
 "initialExtent": {
  "xmin": 6098003.99996306,
  "ymin": 1927000.0002201498,
  "xmax": 6127123.24996306,
  "ymax": 1950999.0002201498,
  "spatialReference": {
   "wkid": 102643,
   "latestWkid": 2227
  }
 },
 "fullExtent": {
  "xmin": 6098003.99996306,
  "ymin": 1927000.0002201498,
  "xmax": 6127123.24996306,
  "ymax": 1950999.0002201498,
  "spatialReference": {
   "wkid": 102643,
   "latestWkid": 2227
  }
 },
 "sortableFields": "",
 "bandCount": 3,
 "pixelType": "U8",
 "minValues": [
  17,
  27,
  31
 ],
 "maxValues": [
  255,
  255,
  255
 ],
 "meanValues": [
  182.6756252333,
  184.76446435237,
  179.8047779022
 ],
 "stdvValues": [
  67.79736489677,
  65.740007258242,
  69.50166265582
 ],
 "hasMultidimensions": false,
 "pixelSizeX": 0.25,
 "pixelSizeY": 0.25,
 "meanPixelSize": 0.07620015240030481,
 "datasetFormat": "MrSID",
 "uncompressedSize": 33543978276,
 "blockWidth": 1024,
 "blockHeight": 128,
 "compressionType": "Wavelet (MG3)",
 "bandNames": [
  "Band_1",
  "Band_2",
  "Band_3"
 ],
 "allowCopy": true,
 "allowAnalysis": true,
 "itemAccess": false,
 "inspectionCapabilities": "",
 "minPixelSize": 0.22802851224854648,
 "maxPixelSize": 116.7505982712558,
 "copyrightText": "",
 "serviceDataType": "esriImageServiceDataTypeRGB",
 "serviceSourceType": "esriImageServiceSourceTypeDataset",
 "objectIdField": "",
 "fields": [],
 "capabilities": "Mensuration,Image,Metadata",
 "defaultMosaicMethod": "Center",
 "allowedMosaicMethods": "",
 "sortField": "",
 "sortValue": null,
 "sortAscending": true,
 "mosaicOperator": "First",
 "defaultCompressionQuality": 75,
 "defaultResamplingMethod": "Bilinear",
 "maxImageHeight": 4100,
 "maxImageWidth": 15000,
 "singleFusedMapCache": true,
 "tileInfo": {
  "rows": 256,
  "cols": 256,
  "dpi": 96,
  "format": "PNG",
  "compressionQuality": 0,
  "origin": {
   "x": -1.1586020866621366E8,
   "y": 1.1150148230421728E8
  },
  "spatialReference": {
   "wkid": 102643,
   "latestWkid": 2227
  },
  "lods": [
   {
    "level": 0,
    "resolution": 956420.9010381275,
    "scale": 1.1017990815940862E9
   },
   {
    "level": 1,
    "resolution": 478210.45051906374,
    "scale": 5.508995407970431E8
   },
   {
    "level": 2,
    "resolution": 239105.22525953187,
    "scale": 2.7544977039852154E8
   },
   {
    "level": 3,
    "resolution": 119552.61262976594,
    "scale": 1.3772488519926077E8
   },
   {
    "level": 4,
    "resolution": 59776.30631488297,
    "scale": 6.886244259963039E7
   },
   {
    "level": 5,
    "resolution": 29888.153157441484,
    "scale": 3.443122129981519E7
   },
   {
    "level": 6,
    "resolution": 14944.076578720742,
    "scale": 1.7215610649907596E7
   },
   {
    "level": 7,
    "resolution": 7472.038289360371,
    "scale": 8607805.324953798
   },
   {
    "level": 8,
    "resolution": 3736.0191446801855,
    "scale": 4303902.662476899
   },
   {
    "level": 9,
    "resolution": 1868.0095723400927,
    "scale": 2151951.3312384496
   },
   {
    "level": 10,
    "resolution": 934.0047861700464,
    "scale": 1075975.6656192248
   },
   {
    "level": 11,
    "resolution": 467.0023930850232,
    "scale": 537987.8328096124
   },
   {
    "level": 12,
    "resolution": 233.5011965425116,
    "scale": 268993.9164048062
   },
   {
    "level": 13,
    "resolution": 116.7505982712558,
    "scale": 134496.9582024031
   },
   {
    "level": 14,
    "resolution": 58.3752991356279,
    "scale": 67248.47910120155
   },
   {
    "level": 15,
    "resolution": 29.18764956781395,
    "scale": 33624.239550600774
   },
   {
    "level": 16,
    "resolution": 14.593824783906975,
    "scale": 16812.119775300387
   },
   {
    "level": 17,
    "resolution": 7.296912391953487,
    "scale": 8406.059887650194
   },
   {
    "level": 18,
    "resolution": 3.6484561959767436,
    "scale": 4203.029943825097
   },
   {
    "level": 19,
    "resolution": 1.8242280979883718,
    "scale": 2101.5149719125484
   },
   {
    "level": 20,
    "resolution": 0.9121140489941859,
    "scale": 1050.7574859562742
   },
   {
    "level": 21,
    "resolution": 0.45605702449709296,
    "scale": 525.3787429781371
   },
   {
    "level": 22,
    "resolution": 0.22802851224854648,
    "scale": 262.68937148906855
   },
   {
    "level": 23,
    "resolution": 0.11401425612427324,
    "scale": 131.34468574453427
   }
  ]
 },
 "storageInfo": {
  "storageFormat": "esriMapCacheStorageModeCompactV2",
  "packetSize": 128
 },
 "cacheType": "Map",
 "allowRasterFunction": true,
 "rasterFunctionInfos": [
  {
   "name": "None",
   "description": "",
   "help": ""
  }
 ],
 "rasterTypeInfos": [
  {
   "name": "Raster Dataset",
   "description": "Supports all ArcGIS Raster Datasets",
   "help": ""
  }
 ],
 "mensurationCapabilities": "Basic",
 "hasHistograms": true,
 "hasColormap": false,
 "hasRasterAttributeTable": false,
 "minScale": 134496.9582024031,
 "maxScale": 262.68937148906855,
 "minLOD": 13,
 "maxLOD": 22,
 "exportTilesAllowed": false,
 "supportsStatistics": false,
 "supportsAdvancedQueries": false,
 "editFieldsInfo": null,
 "ownershipBasedAccessControlForRasters": null,
 "allowComputeTiePoints": false,
 "useStandardizedQueries": true,
 "advancedQueryCapabilities": {
  "useStandardizedQueries": true,
  "supportsStatistics": false,
  "supportsOrderBy": false,
  "supportsDistinct": false,
  "supportsPagination": false
 },
 "spatialReference": {
  "wkid": 102643,
  "latestWkid": 2227
 },
 "resampling": false
}
