<?xml version="1.0" encoding="UTF-8"?>
<Capabilities xmlns="http://www.opengis.net/wmts/1.0"
xmlns:ows="http://www.opengis.net/ows/1.1"
xmlns:xlink="http://www.w3.org/1999/xlink"
xmlns:xsi="http://www.w3.org/2001/XMLSchema-instance"
xmlns:gml="http://www.opengis.net/gml"
xsi:schemaLocation="http://www.opengis.net/wmts/1.0 http://schemas.opengis.net/wmts/1.0/wmtsGetCapabilities_response.xsd"
version="1.0.0">
<!-- Service Identification --> <ows:ServiceIdentification>
<ows:Title>Public_Cupertino2018imagery</ows:Title>
<ows:ServiceType>OGC WMTS</ows:ServiceType>
<ows:ServiceTypeVersion>1.0.0</ows:ServiceTypeVersion>
</ows:ServiceIdentification> <!-- Operations Metadata --> <ows:OperationsMetadata>
<ows:Operation name="GetCapabilities">
<ows:DCP>
<ows:HTTP>
<ows:Get xlink:href="https://gis.cupertino.org/cupgis/rest/services/Public/Cupertino2018imagery/ImageServer/WMTS/1.0.0/WMTSCapabilities.xml">
<ows:Constraint name="GetEncoding">
<ows:AllowedValues>
<ows:Value>RESTful</ows:Value>
</ows:AllowedValues>
</ows:Constraint>
</ows:Get>
<!-- add KVP binding in 10.1 -->
<ows:Get xlink:href="https://gis.cupertino.org/cupgis/rest/services/Public/Cupertino2018imagery/ImageServer/WMTS?">
<ows:Constraint name="GetEncoding">
<ows:AllowedValues>
<ows:Value>KVP</ows:Value>
</ows:AllowedValues>
</ows:Constraint>
</ows:Get>
</ows:HTTP>
</ows:DCP>
</ows:Operation>
<ows:Operation name="GetTile">
<ows:DCP>
<ows:HTTP>
<ows:Get xlink:href="https://gis.cupertino.org/cupgis/rest/services/Public/Cupertino2018imagery/ImageServer/WMTS/tile/1.0.0/">
<ows:Constraint name="GetEncoding">
<ows:AllowedValues>
<ows:Value>RESTful</ows:Value>
</ows:AllowedValues>
</ows:Constraint>
</ows:Get>
<ows:Get xlink:href="https://gis.cupertino.org/cupgis/rest/services/Public/Cupertino2018imagery/ImageServer/WMTS?">
<ows:Constraint name="GetEncoding">
<ows:AllowedValues>
<ows:Value>KVP</ows:Value>
</ows:AllowedValues>
</ows:Constraint>
</ows:Get>
</ows:HTTP>
</ows:DCP>
</ows:Operation>
</ows:OperationsMetadata> <Contents>
<!--Layer--> <Layer>
<ows:Title>Public_Cupertino2018imagery</ows:Title> <ows:Identifier>Public_Cupertino2018imagery</ows:Identifier>
<ows:BoundingBox crs="urn:ogc:def:crs:EPSG::2227">
<ows:LowerCorner>6098003.99996306 1927000.0002201498</ows:LowerCorner>
<ows:UpperCorner>6127123.24996306 1950999.0002201498</ows:UpperCorner>
</ows:BoundingBox> <ows:WGS84BoundingBox crs="urn:ogc:def:crs:OGC:2:84">
<ows:LowerCorner>-122.09503359372376 37.27623603296982</ows:LowerCorner>
<ows:UpperCorner>-121.99356136184224 37.34345931892021</ows:UpperCorner>
</ows:WGS84BoundingBox>
<Style isDefault="true">
<ows:Title>Default Style</ows:Title>
<ows:Identifier>default</ows:Identifier>
</Style>
<Format>image/png</Format>
<TileMatrixSetLink>
<TileMatrixSet>default028mm</TileMatrixSet>
</TileMatrixSetLink>
<ResourceURL format="image/png" resourceType="tile" template="https://gis.cupertino.org/cupgis/rest/services/Public/Cupertino2018imagery/ImageServer/WMTS/tile/1.0.0/Public_Cupertino2018imagery/{Style}/{TileMatrixSet}/{TileMatrix}/{TileRow}/{TileCol}.png" />
</Layer> <!--TileMatrixSet-->
<TileMatrixSet>
<ows:Title>TileMatrix using 0.28mm</ows:Title>
<ows:Abstract>The tile matrix set that has scale values calculated based on the dpi defined by OGC specification (dpi assumes 0.28mm as the physical distance of a pixel).</ows:Abstract> <ows:Identifier>default028mm</ows:Identifier>
<ows:SupportedCRS>urn:ogc:def:crs:EPSG::2227</ows:SupportedCRS>
<TileMatrix>
<ows:Identifier>0</ows:Identifier>
<ScaleDenominator>1.0411345488276141E9</ScaleDenominator>
<TopLeftCorner>-1.1586020866621366E8 1.1150148230421728E8</TopLeftCorner> <TileWidth>256</TileWidth> <TileHeight>256</TileHeight>
<MatrixWidth>1</MatrixWidth> <MatrixHeight>1</MatrixHeight>
</TileMatrix>
<TileMatrix>
<ows:Identifier>1</ows:Identifier>
<ScaleDenominator>5.2056727441380703E8</ScaleDenominator>
<TopLeftCorner>-1.1586020866621366E8 1.1150148230421728E8</TopLeftCorner> <TileWidth>256</TileWidth> <TileHeight>256</TileHeight>
<MatrixWidth>1</MatrixWidth> <MatrixHeight>1</MatrixHeight>
</TileMatrix>
<TileMatrix>
<ows:Identifier>2</ows:Identifier>
<ScaleDenominator>2.6028363720690352E8</ScaleDenominator>
<TopLeftCorner>-1.1586020866621366E8 1.1150148230421728E8</TopLeftCorner> <TileWidth>256</TileWidth> <TileHeight>256</TileHeight>
<MatrixWidth>2</MatrixWidth> <MatrixHeight>2</MatrixHeight>
</TileMatrix>
<TileMatrix>
<ows:Identifier>3</ows:Identifier>
<ScaleDenominator>1.3014181860345176E8</ScaleDenominator>
<TopLeftCorner>-1.1586020866621366E8 1.1150148230421728E8</TopLeftCorner> <TileWidth>256</TileWidth> <TileHeight>256</TileHeight>
<MatrixWidth>4</MatrixWidth> <MatrixHeight>4</MatrixHeight>
</TileMatrix>
<TileMatrix>
<ows:Identifier>4</ows:Identifier>
<ScaleDenominator>6.507090930172588E7</ScaleDenominator>
<TopLeftCorner>-1.1586020866621366E8 1.1150148230421728E8</TopLeftCorner> <TileWidth>256</TileWidth> <TileHeight>256</TileHeight>
<MatrixWidth>8</MatrixWidth> <MatrixHeight>8</MatrixHeight>
</TileMatrix>
<TileMatrix>
<ows:Identifier>5</ows:Identifier>
<ScaleDenominator>3.253545465086294E7</ScaleDenominator>
<TopLeftCorner>-1.1586020866621366E8 1.1150148230421728E8</TopLeftCorner> <TileWidth>256</TileWidth> <TileHeight>256</TileHeight>
<MatrixWidth>16</MatrixWidth> <MatrixHeight>15</MatrixHeight>
</TileMatrix>
<TileMatrix>
<ows:Identifier>6</ows:Identifier>
<ScaleDenominator>1.626772732543147E7</ScaleDenominator>
<TopLeftCorner>-1.1586020866621366E8 1.1150148230421728E8</TopLeftCorner> <TileWidth>256</TileWidth> <TileHeight>256</TileHeight>
<MatrixWidth>32</MatrixWidth> <MatrixHeight>29</MatrixHeight>
</TileMatrix>
<TileMatrix>
<ows:Identifier>7</ows:Identifier>
<ScaleDenominator>8133863.662715735</ScaleDenominator>
<TopLeftCorner>-1.1586020866621366E8 1.1150148230421728E8</TopLeftCorner> <TileWidth>256</TileWidth> <TileHeight>256</TileHeight>
<MatrixWidth>64</MatrixWidth> <MatrixHeight>58</MatrixHeight>
</TileMatrix>
<TileMatrix>
<ows:Identifier>8</ows:Identifier>
<ScaleDenominator>4066931.8313578675</ScaleDenominator>
<TopLeftCorner>-1.1586020866621366E8 1.1150148230421728E8</TopLeftCorner> <TileWidth>256</TileWidth> <TileHeight>256</TileHeight>
<MatrixWidth>128</MatrixWidth> <MatrixHeight>115</MatrixHeight>
</TileMatrix>
<TileMatrix>
<ows:Identifier>9</ows:Identifier>
<ScaleDenominator>2033465.9156789337</ScaleDenominator>
<TopLeftCorner>-1.1586020866621366E8 1.1150148230421728E8</TopLeftCorner> <TileWidth>256</TileWidth> <TileHeight>256</TileHeight>
<MatrixWidth>256</MatrixWidth> <MatrixHeight>230</MatrixHeight>
</TileMatrix>
<TileMatrix>
<ows:Identifier>10</ows:Identifier>
<ScaleDenominator>1016732.9578394669</ScaleDenominator>
<TopLeftCorner>-1.1586020866621366E8 1.1150148230421728E8</TopLeftCorner> <TileWidth>256</TileWidth> <TileHeight>256</TileHeight>
<MatrixWidth>511</MatrixWidth> <MatrixHeight>459</MatrixHeight>
</TileMatrix>
<TileMatrix>
<ows:Identifier>11</ows:Identifier>
<ScaleDenominator>508366.47891973343</ScaleDenominator>
<TopLeftCorner>-1.1586020866621366E8 1.1150148230421728E8</TopLeftCorner> <TileWidth>256</TileWidth> <TileHeight>256</TileHeight>
<MatrixWidth>1021</MatrixWidth> <MatrixHeight>917</MatrixHeight>
</TileMatrix>
<TileMatrix>
<ows:Identifier>12</ows:Identifier>
<ScaleDenominator>254183.23945986672</ScaleDenominator>
<TopLeftCorner>-1.1586020866621366E8 1.1150148230421728E8</TopLeftCorner> <TileWidth>256</TileWidth> <TileHeight>256</TileHeight>
<MatrixWidth>2041</MatrixWidth> <MatrixHeight>1834</MatrixHeight>
</TileMatrix>
<TileMatrix>
<ows:Identifier>13</ows:Identifier>
<ScaleDenominator>127091.61972993336</ScaleDenominator>
<TopLeftCorner>-1.1586020866621366E8 1.1150148230421728E8</TopLeftCorner> <TileWidth>256</TileWidth> <TileHeight>256</TileHeight>
<MatrixWidth>4082</MatrixWidth> <MatrixHeight>3667</MatrixHeight>
</TileMatrix>
<TileMatrix>
<ows:Identifier>14</ows:Identifier>
<ScaleDenominator>63545.80986496668</ScaleDenominator>
<TopLeftCorner>-1.1586020866621366E8 1.1150148230421728E8</TopLeftCorner> <TileWidth>256</TileWidth> <TileHeight>256</TileHeight>
<MatrixWidth>8163</MatrixWidth> <MatrixHeight>7333</MatrixHeight>
</TileMatrix>
<TileMatrix>
<ows:Identifier>15</ows:Identifier>
<ScaleDenominator>31772.90493248334</ScaleDenominator>
<TopLeftCorner>-1.1586020866621366E8 1.1150148230421728E8</TopLeftCorner> <TileWidth>256</TileWidth> <TileHeight>256</TileHeight>
<MatrixWidth>16326</MatrixWidth> <MatrixHeight>14665</MatrixHeight>
</TileMatrix>
<TileMatrix>
<ows:Identifier>16</ows:Identifier>
<ScaleDenominator>15886.45246624167</ScaleDenominator>
<TopLeftCorner>-1.1586020866621366E8 1.1150148230421728E8</TopLeftCorner> <TileWidth>256</TileWidth> <TileHeight>256</TileHeight>
<MatrixWidth>32652</MatrixWidth> <MatrixHeight>29330</MatrixHeight>
</TileMatrix>
<TileMatrix>
<ows:Identifier>17</ows:Identifier>
<ScaleDenominator>7943.226233120835</ScaleDenominator>
<TopLeftCorner>-1.1586020866621366E8 1.1150148230421728E8</TopLeftCorner> <TileWidth>256</TileWidth> <TileHeight>256</TileHeight>
<MatrixWidth>65304</MatrixWidth> <MatrixHeight>58659</MatrixHeight>
</TileMatrix>
<TileMatrix>
<ows:Identifier>18</ows:Identifier>
<ScaleDenominator>3971.6131165604174</ScaleDenominator>
<TopLeftCorner>-1.1586020866621366E8 1.1150148230421728E8</TopLeftCorner> <TileWidth>256</TileWidth> <TileHeight>256</TileHeight>
<MatrixWidth>130607</MatrixWidth> <MatrixHeight>117317</MatrixHeight>
</TileMatrix>
<TileMatrix>
<ows:Identifier>19</ows:Identifier>
<ScaleDenominator>1985.8065582802087</ScaleDenominator>
<TopLeftCorner>-1.1586020866621366E8 1.1150148230421728E8</TopLeftCorner> <TileWidth>256</TileWidth> <TileHeight>256</TileHeight>
<MatrixWidth>261214</MatrixWidth> <MatrixHeight>234634</MatrixHeight>
</TileMatrix>
<TileMatrix>
<ows:Identifier>20</ows:Identifier>
<ScaleDenominator>992.9032791401044</ScaleDenominator>
<TopLeftCorner>-1.1586020866621366E8 1.1150148230421728E8</TopLeftCorner> <TileWidth>256</TileWidth> <TileHeight>256</TileHeight>
<MatrixWidth>522428</MatrixWidth> <MatrixHeight>469268</MatrixHeight>
</TileMatrix>
<TileMatrix>
<ows:Identifier>21</ows:Identifier>
<ScaleDenominator>496.4516395700522</ScaleDenominator>
<TopLeftCorner>-1.1586020866621366E8 1.1150148230421728E8</TopLeftCorner> <TileWidth>256</TileWidth> <TileHeight>256</TileHeight>
<MatrixWidth>1044855</MatrixWidth> <MatrixHeight>938535</MatrixHeight>
</TileMatrix>
<TileMatrix>
<ows:Identifier>22</ows:Identifier>
<ScaleDenominator>248.2258197850261</ScaleDenominator>
<TopLeftCorner>-1.1586020866621366E8 1.1150148230421728E8</TopLeftCorner> <TileWidth>256</TileWidth> <TileHeight>256</TileHeight>
<MatrixWidth>2089709</MatrixWidth> <MatrixHeight>1877070</MatrixHeight>
</TileMatrix>
<TileMatrix>
<ows:Identifier>23</ows:Identifier>
<ScaleDenominator>124.11290989251304</ScaleDenominator>
<TopLeftCorner>-1.1586020866621366E8 1.1150148230421728E8</TopLeftCorner> <TileWidth>256</TileWidth> <TileHeight>256</TileHeight>
<MatrixWidth>4179417</MatrixWidth> <MatrixHeight>3754139</MatrixHeight>
</TileMatrix>
</TileMatrixSet>
</Contents>
<ServiceMetadataURL xlink:href="https://gis.cupertino.org/cupgis/rest/services/Public/Cupertino2018imagery/ImageServer/WMTS/1.0.0/WMTSCapabilities.xml" /> </Capabilities>
