{
 "currentVersion": 11.3,
 "serviceDescription": "Public/2023Aerial",
 "name": "Public/2023Aerial",
 "description": "",
 "extent": {
  "xmin": -1.359175154366896E7,
  "ymin": 4477389.356124778,
  "xmax": -1.3580112397999452E7,
  "ymax": 4487188.143487818,
  "spatialReference": {
   "wkid": 102100,
   "latestWkid": 3857
  }
 },
 "initialExtent": {
  "xmin": -1.359175154366896E7,
  "ymin": 4477389.356124778,
  "xmax": -1.3580112397999452E7,
  "ymax": 4487188.143487818,
  "spatialReference": {
   "wkid": 102100,
   "latestWkid": 3857
  }
 },
 "fullExtent": {
  "xmin": -1.359175154366896E7,
  "ymin": 4477389.356124778,
  "xmax": -1.3580112397999452E7,
  "ymax": 4487188.143487818,
  "spatialReference": {
   "wkid": 102100,
   "latestWkid": 3857
  }
 },
 "sortableFields": "",
 "bandCount": 4,
 "pixelType": "U8",
 "minValues": [
  0,
  0,
  0,
  0
 ],
 "maxValues": [
  255,
  255,
  255,
  255
 ],
 "meanValues": [
  78.660547390545,
  81.797743092088,
  81.97890113568,
  117.65256113342
 ],
 "stdvValues": [
  66.952419944419,
  65.284521407767,
  63.942454388637,
  83.397872572224
 ],
 "hasMultidimensions": false,
 "pixelSizeX": 0.07620015240030481,
 "pixelSizeY": 0.07620015240030481,
 "meanPixelSize": 0.07620015240030481,
 "datasetFormat": "TIFF",
 "uncompressedSize": 78566625792,
 "blockWidth": 128,
 "blockHeight": 128,
 "compressionType": "None",
 "bandNames": [
  "Band_1",
  "Band_2",
  "Band_3",
  "Band_4"
 ],
 "allowCopy": true,
 "allowAnalysis": true,
 "itemAccess": false,
 "inspectionCapabilities": "",
 "minPixelSize": 0,
 "maxPixelSize": 0,
 "copyrightText": "",
 "serviceDataType": "esriImageServiceDataTypeGeneric",
 "serviceSourceType": "esriImageServiceSourceTypeDataset",
 "objectIdField": "",
 "fields": [],
 "capabilities": "Mensuration,Image,Metadata",
 "defaultMosaicMethod": "Center",
 "allowedMosaicMethods": "",
 "sortField": "",
 "sortValue": null,
 "sortAscending": true,
 "mosaicOperator": "First",
 "defaultCompressionQuality": 75,
 "defaultResamplingMethod": "Bilinear",
 "maxImageHeight": 4100,
 "maxImageWidth": 15000,
 "allowRasterFunction": true,
 "rasterFunctionInfos": [
  {
   "name": "None",
   "description": "",
   "help": ""
  }
 ],
 "rasterTypeInfos": [
  {
   "name": "Raster Dataset",
   "description": "Supports all ArcGIS Raster Datasets",
   "help": ""
  }
 ],
 "mensurationCapabilities": "Basic",
 "hasHistograms": true,
 "hasColormap": false,
 "hasRasterAttributeTable": false,
 "minScale": 144447.638572,
 "maxScale": 2256.994353,
 "minLOD": 12,
 "maxLOD": 18,
 "exportTilesAllowed": false,
 "supportsStatistics": false,
 "supportsAdvancedQueries": false,
 "editFieldsInfo": null,
 "ownershipBasedAccessControlForRasters": null,
 "allowComputeTiePoints": false,
 "useStandardizedQueries": true,
 "advancedQueryCapabilities": {
  "useStandardizedQueries": true,
  "supportsStatistics": false,
  "supportsOrderBy": false,
  "supportsDistinct": false,
  "supportsPagination": false
 },
 "spatialReference": {
  "wkid": 102100,
  "latestWkid": 3857
 },
 "resampling": false
}
