<?xml version="1.0" encoding="UTF-8" standalone="no"?>
<metadata xml:lang="en">
<Esri>
<CreaDate>20210310</CreaDate>
<CreaTime>16154600</CreaTime>
<ArcGISFormat>1.0</ArcGISFormat>
<SyncOnce>FALSE</SyncOnce>
<DataProperties>
<itemProps>
<itemName Sync="TRUE">Aerial2020.tif</itemName>
<itemLocation>
<linkage Sync="TRUE">file://D:\data\aerialimages\Aerials2020\2020\Aerial2020.tif</linkage>
<protocol Sync="TRUE">Local Area Network</protocol>
</itemLocation>
<imsContentType Sync="TRUE">002</imsContentType>
<nativeExtBox>
<westBL Sync="TRUE">6086250.000000</westBL>
<eastBL Sync="TRUE">6131250.000000</eastBL>
<southBL Sync="TRUE">1925000.000000</southBL>
<northBL Sync="TRUE">1952500.000000</northBL>
<exTypeCode Sync="TRUE">1</exTypeCode>
</nativeExtBox>
</itemProps>
<coordRef>
<type Sync="TRUE">Projected</type>
<geogcsn Sync="TRUE">GCS_NAD_1983_2011</geogcsn>
<csUnits Sync="TRUE">Linear Unit: Foot_US (0.304801)</csUnits>
<projcsn Sync="TRUE">NAD_1983_2011_StatePlane_California_III_FIPS_0403_Ft_US</projcsn>
<peXml Sync="TRUE">&lt;ProjectedCoordinateSystem xsi:type='typens:ProjectedCoordinateSystem' xmlns:xsi='http://www.w3.org/2001/XMLSchema-instance' xmlns:xs='http://www.w3.org/2001/XMLSchema' xmlns:typens='http://www.esri.com/schemas/ArcGIS/2.7.0'&gt;&lt;WKT&gt;PROJCS[&amp;quot;NAD_1983_2011_StatePlane_California_III_FIPS_0403_Ft_US&amp;quot;,GEOGCS[&amp;quot;GCS_NAD83_2011&amp;quot;,DATUM[&amp;quot;D_NAD83_National_Spatial_Reference_System_2011&amp;quot;,SPHEROID[&amp;quot;GRS_1980&amp;quot;,6378137.0,298.257222101]],PRIMEM[&amp;quot;Greenwich&amp;quot;,0.0],UNIT[&amp;quot;Degree&amp;quot;,0.0174532925199433]],PROJECTION[&amp;quot;Lambert_Conformal_Conic&amp;quot;],PARAMETER[&amp;quot;false_easting&amp;quot;,6561666.667],PARAMETER[&amp;quot;false_northing&amp;quot;,1640416.667],PARAMETER[&amp;quot;central_meridian&amp;quot;,-120.5],PARAMETER[&amp;quot;standard_parallel_1&amp;quot;,37.06666666666667],PARAMETER[&amp;quot;standard_parallel_2&amp;quot;,38.43333333333333],PARAMETER[&amp;quot;latitude_of_origin&amp;quot;,36.5],UNIT[&amp;quot;Foot_US&amp;quot;,0.3048006096012192]]&lt;/WKT&gt;&lt;XOrigin&gt;-115860600&lt;/XOrigin&gt;&lt;YOrigin&gt;-93269500&lt;/YOrigin&gt;&lt;XYScale&gt;36787427.345686711&lt;/XYScale&gt;&lt;ZOrigin&gt;-100000&lt;/ZOrigin&gt;&lt;ZScale&gt;10000&lt;/ZScale&gt;&lt;MOrigin&gt;-100000&lt;/MOrigin&gt;&lt;MScale&gt;10000&lt;/MScale&gt;&lt;XYTolerance&gt;0.0032808333333333331&lt;/XYTolerance&gt;&lt;ZTolerance&gt;0.001&lt;/ZTolerance&gt;&lt;MTolerance&gt;0.001&lt;/MTolerance&gt;&lt;HighPrecision&gt;true&lt;/HighPrecision&gt;&lt;/ProjectedCoordinateSystem&gt;</peXml>
</coordRef>
<RasterProperties>
<General>
<PixelDepth Sync="TRUE">8</PixelDepth>
<HasColormap Sync="TRUE">FALSE</HasColormap>
<CompressionType Sync="TRUE">LZW</CompressionType>
<NumBands Sync="TRUE">5</NumBands>
<Format Sync="TRUE">TIFF</Format>
<HasPyramids Sync="TRUE">TRUE</HasPyramids>
<SourceType Sync="TRUE">continuous</SourceType>
<PixelType Sync="TRUE">unsigned integer</PixelType>
<NoDataValue Sync="TRUE">256</NoDataValue>
</General>
</RasterProperties>
<lineage>
<Process Date="20210310" Time="161546" ToolSource="c:\program files\arcgis\pro\Resources\ArcToolbox\toolboxes\Data Management Tools.tbx\MosaicToNewRaster">MosaicToNewRaster 60861925.sid;60861926.sid;60861927.sid;60861928.sid;60861930.sid;60861931.sid;60861932.sid;60861933.sid;60861935.sid;60861936.sid;60861937.sid;60861938.sid;60861940.sid;60861941.sid;60861942.sid;60861943.sid;60861945.sid;60861946.sid;60861947.sid;60861948.sid;60861950.sid;60861951.sid;60871925.sid;60871926.sid;60871927.sid;60871928.sid;60871930.sid;60871931.sid;60871932.sid;60871933.sid;60871935.sid;60871936.sid;60871937.sid;60871938.sid;60871940.sid;60871941.sid;60871942.sid;60871943.sid;60871945.sid;60871946.sid;60871947.sid;60871948.sid;60871950.sid;60871951.sid;60881925.sid;60881926.sid;60881927.sid;60881928.sid;60881930.sid;60881931.sid;60881932.sid;60881933.sid;60881935.sid;60881936.sid;60881937.sid;60881938.sid;60881940.sid;60881941.sid;60881942.sid;60881943.sid;60881945.sid;60881946.sid;60881947.sid;60881948.sid;60881950.sid;60881951.sid;60901925.sid;60901926.sid;60901927.sid;60901928.sid;60901930.sid;60901931.sid;60901932.sid;60901933.sid;60901935.sid;60901936.sid;60901937.sid;60901938.sid;60901940.sid;60901941.sid;60901942.sid;60901943.sid;60901945.sid;60901946.sid;60901947.sid;60901948.sid;60901950.sid;60901951.sid;60911925.sid;60911926.sid;60911927.sid;60911928.sid;60911930.sid;60911931.sid;60911932.sid;60911933.sid;60911935.sid;60911936.sid;60911937.sid;60911938.sid;60911940.sid;60911941.sid;60911942.sid;60911943.sid;60911945.sid;60911946.sid;60911947.sid;60911948.sid;60911950.sid;60911951.sid;60921925.sid;60921926.sid;60921927.sid;60921928.sid;60921930.sid;60921931.sid;60921932.sid;60921933.sid;60921935.sid;60921936.sid;60921937.sid;60921938.sid;60921940.sid;60921941.sid;60921942.sid;60921943.sid;60921945.sid;60921946.sid;60921947.sid;60921948.sid;60921950.sid;60921951.sid;60931925.sid;60931926.sid;60931927.sid;60931928.sid;60931930.sid;60931931.sid;60931932.sid;60931933.sid;60931935.sid;60931936.sid;60931937.sid;60931938.sid;60931940.sid;60931941.sid;60931942.sid;60931943.sid;60931945.sid;60931946.sid;60931947.sid;60931948.sid;60931950.sid;60931951.sid;60951925.sid;60951926.sid;60951927.sid;60951928.sid;60951930.sid;60951931.sid;60951932.sid;60951933.sid;60951935.sid;60951936.sid;60951937.sid;60951938.sid;60951940.sid;60951941.sid;60951942.sid;60951943.sid;60951945.sid;60951946.sid;60951947.sid;60951948.sid;60951950.sid;60951951.sid;60961925.sid;60961926.sid;60961927.sid;60961928.sid;60961930.sid;60961931.sid;60961932.sid;60961933.sid;60961935.sid;60961936.sid;60961937.sid;60961938.sid;60961940.sid;60961941.sid;60961942.sid;60961943.sid;60961945.sid;60961946.sid;60961947.sid;60961948.sid;60961950.sid;60961951.sid;60971925.sid;60971926.sid;60971927.sid;60971928.sid;60971930.sid;60971931.sid;60971932.sid;60971933.sid;60971935.sid;60971936.sid;60971937.sid;60971938.sid;60971940.sid;60971941.sid;60971942.sid;60971943.sid;60971945.sid;60971946.sid;60971947.sid;60971948.sid;60971950.sid;60971951.sid;60981925.sid;60981926.sid;60981927.sid;60981928.sid;60981930.sid;60981931.sid;60981932.sid;60981933.sid;60981935.sid;60981936.sid;60981937.sid;60981938.sid;60981940.sid;60981941.sid;60981942.sid;60981943.sid;60981945.sid;60981946.sid;60981947.sid;60981948.sid;60981950.sid;60981951.sid;61001925.sid;61001926.sid;61001927.sid;61001928.sid;61001930.sid;61001931.sid;61001932.sid;61001933.sid;61001935.sid;61001936.sid;61001937.sid;61001938.sid;61001940.sid;61001941.sid;61001942.sid;61001943.sid;61001945.sid;61001946.sid;61001947.sid;61001948.sid;61001950.sid;61001951.sid;61011925.sid;61011926.sid;61011927.sid;61011928.sid;61011930.sid;61011931.sid;61011932.sid;61011933.sid;61011935.sid;61011936.sid;61011937.sid;61011938.sid;61011940.sid;61011941.sid;61011942.sid;61011943.sid;61011945.sid;61011946.sid;61011947.sid;61011948.sid;61011950.sid;61011951.sid;61021925.sid;61021926.sid;61021927.sid;61021928.sid;61021930.sid;61021931.sid;61021932.sid;61021933.sid;61021935.sid;61021936.sid;61021937.sid;61021938.sid;61021940.sid;61021941.sid;61021942.sid;61021943.sid;61021945.sid;61021946.sid;61021947.sid;61021948.sid;61021950.sid;61021951.sid;61031925.sid;61031926.sid;61031927.sid;61031928.sid;61031930.sid;61031931.sid;61031932.sid;61031933.sid;61031935.sid;61031936.sid;61031937.sid;61031938.sid;61031940.sid;61031941.sid;61031942.sid;61031943.sid;61031945.sid;61031946.sid;61031947.sid;61031948.sid;61031950.sid;61031951.sid;61051925.sid;61051926.sid;61051927.sid;61051928.sid;61051930.sid;61051931.sid;61051932.sid;61051933.sid;61051935.sid;61051936.sid;61051937.sid;61051938.sid;61051940.sid;61051941.sid;61051942.sid;61051943.sid;61051945.sid;61051946.sid;61051947.sid;61051948.sid;61051950.sid;61051951.sid;61061925.sid;61061926.sid;61061927.sid;61061928.sid;61061930.sid;61061931.sid;61061932.sid;61061933.sid;61061935.sid;61061936.sid;61061937.sid;61061938.sid;61061940.sid;61061941.sid;61061942.sid;61061943.sid;61061945.sid;61061946.sid;61061947.sid;61061948.sid;61061950.sid;61061951.sid;61071925.sid;61071926.sid;61071927.sid;61071928.sid;61071930.sid;61071931.sid;61071932.sid;61071933.sid;61071935.sid;61071936.sid;61071937.sid;61071938.sid;61071940.sid;61071941.sid;61071942.sid;61071943.sid;61071945.sid;61071946.sid;61071947.sid;61071948.sid;61071950.sid;61071951.sid;61081925.sid;61081926.sid;61081927.sid;61081928.sid;61081930.sid;61081931.sid;61081932.sid;61081933.sid;61081935.sid;61081936.sid;61081937.sid;61081938.sid;61081940.sid;61081941.sid;61081942.sid;61081943.sid;61081945.sid;61081946.sid;61081947.sid;61081948.sid;61081950.sid;61081951.sid;61101925.sid;61101926.sid;61101927.sid;61101928.sid;61101930.sid;61101931.sid;61101932.sid;61101933.sid;61101935.sid;61101936.sid;61101937.sid;61101938.sid;61101940.sid;61101941.sid;61101942.sid;61101943.sid;61101945.sid;61101946.sid;61101947.sid;61101948.sid;61101950.sid;61101951.sid;61111925.sid;61111926.sid;61111927.sid;61111928.sid;61111930.sid;61111931.sid;61111932.sid;61111933.sid;61111935.sid;61111936.sid;61111937.sid;61111938.sid;61111940.sid;61111941.sid;61111942.sid;61111943.sid;61111945.sid;61111946.sid;61111947.sid;61111948.sid;61111950.sid;61111951.sid;61121925.sid;61121926.sid;61121927.sid;61121928.sid;61121930.sid;61121931.sid;61121932.sid;61121933.sid;61121935.sid;61121936.sid;61121937.sid;61121938.sid;61121940.sid;61121941.sid;61121942.sid;61121943.sid;61121945.sid;61121946.sid;61121947.sid;61121948.sid;61121950.sid;61121951.sid;61131925.sid;61131926.sid;61131927.sid;61131928.sid;61131930.sid;61131931.sid;61131932.sid;61131933.sid;61131935.sid;61131936.sid;61131937.sid;61131938.sid;61131940.sid;61131941.sid;61131942.sid;61131943.sid;61131945.sid;61131946.sid;61131947.sid;61131948.sid;61131950.sid;61131951.sid;61151925.sid;61151926.sid;61151927.sid;61151928.sid;61151930.sid;61151931.sid;61151932.sid;61151933.sid;61151935.sid;61151936.sid;61151937.sid;61151938.sid;61151940.sid;61151941.sid;61151942.sid;61151943.sid;61151945.sid;61151946.sid;61151947.sid;61151948.sid;61151950.sid;61151951.sid;61161925.sid;61161926.sid;61161927.sid;61161928.sid;61161930.sid;61161931.sid;61161932.sid;61161933.sid;61161935.sid;61161936.sid;61161937.sid;61161938.sid;61161940.sid;61161941.sid;61161942.sid;61161943.sid;61161945.sid;61161946.sid;61161947.sid;61161948.sid;61161950.sid;61161951.sid;61171925.sid;61171926.sid;61171927.sid;61171928.sid;61171930.sid;61171931.sid;61171932.sid;61171933.sid;61171935.sid;61171936.sid;61171937.sid;61171938.sid;61171940.sid;61171941.sid;61171942.sid;61171943.sid;61171945.sid;61171946.sid;61171947.sid;61171948.sid;61171950.sid;61171951.sid;61181925.sid;61181926.sid;61181927.sid;61181928.sid;61181930.sid;61181931.sid;61181932.sid;61181933.sid;61181935.sid;61181936.sid;61181937.sid;61181938.sid;61181940.sid;61181941.sid;61181942.sid;61181943.sid;61181945.sid;61181946.sid;61181947.sid;61181948.sid;61181950.sid;61181951.sid;61201925.sid;61201926.sid;61201927.sid;61201928.sid;61201930.sid;61201931.sid;61201932.sid;61201933.sid;61201935.sid;61201936.sid;61201937.sid;61201938.sid;61201940.sid;61201941.sid;61201942.sid;61201943.sid;61201945.sid;61201946.sid;61201947.sid;61201948.sid;61201950.sid;61201951.sid;61211925.sid;61211926.sid;61211927.sid;61211928.sid;61211930.sid;61211931.sid;61211932.sid;61211933.sid;61211935.sid;61211936.sid;61211937.sid;61211938.sid;61211940.sid;61211941.sid;61211942.sid;61211943.sid;61211945.sid;61211946.sid;61211947.sid;61211948.sid;61211950.sid;61211951.sid;61221925.sid;61221926.sid;61221927.sid;61221928.sid;61221930.sid;61221931.sid;61221932.sid;61221933.sid;61221935.sid;61221936.sid;61221937.sid;61221938.sid;61221940.sid;61221941.sid;61221942.sid;61221943.sid;61221945.sid;61221946.sid;61221947.sid;61221948.sid;61221950.sid;61221951.sid;61231925.sid;61231926.sid;61231927.sid;61231928.sid;61231930.sid;61231931.sid;61231932.sid;61231933.sid;61231935.sid;61231936.sid;61231937.sid;61231938.sid;61231940.sid;61231941.sid;61231942.sid;61231943.sid;61231945.sid;61231946.sid;61231947.sid;61231948.sid;61231950.sid;61231951.sid;61251925.sid;61251926.sid;61251927.sid;61251928.sid;61251930.sid;61251931.sid;61251932.sid;61251933.sid;61251935.sid;61251936.sid;61251937.sid;61251938.sid;61251940.sid;61251941.sid;61251942.sid;61251943.sid;61251945.sid;61251946.sid;61251947.sid;61251948.sid;61251950.sid;61251951.sid;61261925.sid;61261926.sid;61261927.sid;61261928.sid;61261930.sid;61261931.sid;61261932.sid;61261933.sid;61261935.sid;61261936.sid;61261937.sid;61261938.sid;61261940.sid;61261941.sid;61261942.sid;61261943.sid;61261945.sid;61261946.sid;61261947.sid;61261948.sid;61261950.sid;61261951.sid;61271925.sid;61271926.sid;61271927.sid;61271928.sid;61271930.sid;61271931.sid;61271932.sid;61271933.sid;61271935.sid;61271936.sid;61271937.sid;61271938.sid;61271940.sid;61271941.sid;61271942.sid;61271943.sid;61271945.sid;61271946.sid;61271947.sid;61271948.sid;61271950.sid;61271951.sid;61281925.sid;61281926.sid;61281927.sid;61281928.sid;61281930.sid;61281931.sid;61281932.sid;61281933.sid;61281935.sid;61281936.sid;61281937.sid;61281938.sid;61281940.sid;61281941.sid;61281942.sid;61281943.sid;61281945.sid;61281946.sid;61281947.sid;61281948.sid;61281950.sid;61281951.sid;61301925.sid;61301926.sid;61301927.sid;61301928.sid;61301930.sid;61301931.sid;61301932.sid;61301933.sid;61301935.sid;61301936.sid;61301937.sid;61301938.sid;61301940.sid;61301941.sid;61301942.sid;61301943.sid;61301945.sid;61301946.sid;61301947.sid;61301948.sid;61301950.sid;61301951.sid D:\data\aerialimages\Aerials2020\2020 Aerial2020.tif # "8 bit unsigned" # 5 Last First</Process>
</lineage>
</DataProperties>
<SyncDate>20210310</SyncDate>
<SyncTime>16154600</SyncTime>
<ModDate>20210310</ModDate>
<ModTime>16154600</ModTime>
</Esri>
<dataIdInfo>
<envirDesc Sync="TRUE">Microsoft Windows Server 2016 Technical Preview Version 10.0 (Build 14393) ; Esri ArcGIS 12.7.0.26828</envirDesc>
<dataLang>
<languageCode Sync="TRUE" value="eng"/>
<countryCode Sync="TRUE" value="USA"/>
</dataLang>
<idCitation>
<resTitle Sync="TRUE">2020Aerial_ImageService</resTitle>
<presForm>
<PresFormCd Sync="TRUE" value="005"/>
</presForm>
</idCitation>
<spatRpType>
<SpatRepTypCd Sync="TRUE" value="002"/>
</spatRpType>
<dataExt>
<geoEle>
<GeoBndBox esriExtentType="search">
<exTypeCode Sync="TRUE">1</exTypeCode>
<westBL Sync="TRUE">-122.135550</westBL>
<eastBL Sync="TRUE">-121.979271</eastBL>
<northBL Sync="TRUE">37.347761</northBL>
<southBL Sync="TRUE">37.270187</southBL>
</GeoBndBox>
</geoEle>
</dataExt>
<idAbs/>
<searchKeys>
<keyword>Imagery</keyword>
</searchKeys>
<idPurp>Image service for 2020 Aerial</idPurp>
<idCredit/>
<resConst>
<Consts>
<useLimit/>
</Consts>
</resConst>
</dataIdInfo>
<mdLang>
<languageCode Sync="TRUE" value="eng"/>
<countryCode Sync="TRUE" value="USA"/>
</mdLang>
<mdChar>
<CharSetCd Sync="TRUE" value="004"/>
</mdChar>
<distInfo>
<distFormat>
<formatName Sync="TRUE">Raster Dataset</formatName>
</distFormat>
</distInfo>
<mdHrLv>
<ScopeCd Sync="TRUE" value="005"/>
</mdHrLv>
<mdHrLvName Sync="TRUE">dataset</mdHrLvName>
<refSysInfo>
<RefSystem>
<refSysID>
<identCode Sync="TRUE" code="0"/>
</refSysID>
</RefSystem>
</refSysInfo>
<spatRepInfo>
<Georect>
<cellGeo>
<CellGeoCd Sync="TRUE" value="002"/>
</cellGeo>
<numDims Sync="TRUE">2</numDims>
<tranParaAv Sync="TRUE">1</tranParaAv>
<chkPtAv Sync="TRUE">0</chkPtAv>
<cornerPts>
<pos Sync="TRUE">6086250.000000 1925000.000000</pos>
</cornerPts>
<cornerPts>
<pos Sync="TRUE">6086250.000000 1952500.000000</pos>
</cornerPts>
<cornerPts>
<pos Sync="TRUE">6131250.000000 1952500.000000</pos>
</cornerPts>
<cornerPts>
<pos Sync="TRUE">6131250.000000 1925000.000000</pos>
</cornerPts>
<centerPt>
<pos Sync="TRUE">6108750.000000 1938750.000000</pos>
</centerPt>
<axisDimension type="002">
<dimSize Sync="TRUE">180000</dimSize>
<dimResol>
<value Sync="TRUE" uom="ftUS">0.250000</value>
</dimResol>
</axisDimension>
<axisDimension type="001">
<dimSize Sync="TRUE">110000</dimSize>
<dimResol>
<value Sync="TRUE" uom="ftUS">0.250000</value>
</dimResol>
</axisDimension>
<ptInPixel>
<PixOrientCd Sync="TRUE" value="001"/>
</ptInPixel>
</Georect>
</spatRepInfo>
<contInfo>
<ImgDesc>
<contentTyp>
<ContentTypCd Sync="TRUE" value="001"/>
</contentTyp>
<covDim>
<Band>
<dimDescrp Sync="TRUE">Band_1</dimDescrp>
<maxVal Sync="TRUE">255.000000</maxVal>
<minVal Sync="TRUE">0.000000</minVal>
<bitsPerVal Sync="TRUE">8</bitsPerVal>
<valUnit>
<UOM type="length"/>
</valUnit>
</Band>
<Band>
<dimDescrp Sync="TRUE">Band_2</dimDescrp>
<maxVal Sync="TRUE">255.000000</maxVal>
<minVal Sync="TRUE">0.000000</minVal>
<bitsPerVal Sync="TRUE">8</bitsPerVal>
<valUnit>
<UOM type="length"/>
</valUnit>
</Band>
<Band>
<dimDescrp Sync="TRUE">Band_3</dimDescrp>
<maxVal Sync="TRUE">255.000000</maxVal>
<minVal Sync="TRUE">0.000000</minVal>
<bitsPerVal Sync="TRUE">8</bitsPerVal>
<valUnit>
<UOM type="length"/>
</valUnit>
</Band>
<Band>
<dimDescrp Sync="TRUE">Band_4</dimDescrp>
<maxVal Sync="TRUE">255.000000</maxVal>
<minVal Sync="TRUE">0.000000</minVal>
<bitsPerVal Sync="TRUE">8</bitsPerVal>
<valUnit>
<UOM type="length"/>
</valUnit>
</Band>
<Band>
<dimDescrp Sync="TRUE">Band_5</dimDescrp>
<maxVal Sync="TRUE">255.000000</maxVal>
<minVal Sync="TRUE">255.000000</minVal>
<bitsPerVal Sync="TRUE">8</bitsPerVal>
<valUnit>
<UOM type="length"/>
</valUnit>
</Band>
</covDim>
</ImgDesc>
</contInfo>
<mdDateSt Sync="TRUE">20210310</mdDateSt>
</metadata>
