{
 "currentVersion": 11.3,
 "serviceDescription": "2015 3in Cupertino Aerial Photo",
 "name": "Public/2015Aerial_ImageService",
 "description": "2015 3in Cupertino Aerial Photo",
 "extent": {
  "xmin": 6098000.000333333,
  "ymin": 1927000.0003333252,
  "xmax": 6128000.000333337,
  "ymax": 1951000.0003333355,
  "spatialReference": {
   "wkt2": "PROJCRS[\"NAD_1983_California_zone_3_ftUS\",BASEGEOGCRS[\"GCS_North_American_1983\",DATUM[\"D_North_American_1983\",ELLIPSOID[\"GRS_1980\",6378137.0,298.257222101,LENGTHUNIT[\"Meter\",1.0]]],PRIMEM[\"Greenwich\",0.0,ANGLEUNIT[\"Degree\",0.0174532925199433]],CS[ellipsoidal,2],ANGLEUNIT[\"Degree\",0.0174532925199433]],CONVERSION[\"Lambert_Conformal_Conic\",METHOD[\"Lambert_Conformal_Conic\"],PARAMETER[\"false_easting\",6561666.667,LENGTHUNIT[\"Foot_US\",0.3048006096012192]],PARAMETER[\"false_northing\",1640416.667,LENGTHUNIT[\"Foot_US\",0.3048006096012192]],PARAMETER[\"central_meridian\",-120.5,ANGLEUNIT[\"Degree\",0.0174532925199433]],PARAMETER[\"standard_parallel_1\",37.06666666666667,ANGLEUNIT[\"Degree\",0.0174532925199433]],PARAMETER[\"standard_parallel_2\",38.43333333333333,ANGLEUNIT[\"Degree\",0.0174532925199433]],PARAMETER[\"latitude_of_origin\",36.5,ANGLEUNIT[\"Degree\",0.0174532925199433]]],CS[Cartesian,2],AXIS[\"Easting (X)\",east,ORDER[1]],AXIS[\"Northing (Y)\",north,ORDER[2]],LENGTHUNIT[\"Foot_US\",0.3048006096012192]]",
   "wkt": "PROJCS[\"NAD_1983_California_zone_3_ftUS\",GEOGCS[\"GCS_North_American_1983\",DATUM[\"D_North_American_1983\",SPHEROID[\"GRS_1980\",6378137.0,298.257222101]],PRIMEM[\"Greenwich\",0.0],UNIT[\"Degree\",0.0174532925199433]],PROJECTION[\"Lambert_Conformal_Conic\"],PARAMETER[\"false_easting\",6561666.667],PARAMETER[\"false_northing\",1640416.667],PARAMETER[\"central_meridian\",-120.5],PARAMETER[\"standard_parallel_1\",37.06666666666667],PARAMETER[\"standard_parallel_2\",38.43333333333333],PARAMETER[\"latitude_of_origin\",36.5],UNIT[\"Foot_US\",0.3048006096012192]]"
  }
 },
 "initialExtent": {
  "xmin": 6098000.000333333,
  "ymin": 1927000.0003333252,
  "xmax": 6128000.000333337,
  "ymax": 1951000.0003333355,
  "spatialReference": {
   "wkt2": "PROJCRS[\"NAD_1983_California_zone_3_ftUS\",BASEGEOGCRS[\"GCS_North_American_1983\",DATUM[\"D_North_American_1983\",ELLIPSOID[\"GRS_1980\",6378137.0,298.257222101,LENGTHUNIT[\"Meter\",1.0]]],PRIMEM[\"Greenwich\",0.0,ANGLEUNIT[\"Degree\",0.0174532925199433]],CS[ellipsoidal,2],ANGLEUNIT[\"Degree\",0.0174532925199433]],CONVERSION[\"Lambert_Conformal_Conic\",METHOD[\"Lambert_Conformal_Conic\"],PARAMETER[\"false_easting\",6561666.667,LENGTHUNIT[\"Foot_US\",0.3048006096012192]],PARAMETER[\"false_northing\",1640416.667,LENGTHUNIT[\"Foot_US\",0.3048006096012192]],PARAMETER[\"central_meridian\",-120.5,ANGLEUNIT[\"Degree\",0.0174532925199433]],PARAMETER[\"standard_parallel_1\",37.06666666666667,ANGLEUNIT[\"Degree\",0.0174532925199433]],PARAMETER[\"standard_parallel_2\",38.43333333333333,ANGLEUNIT[\"Degree\",0.0174532925199433]],PARAMETER[\"latitude_of_origin\",36.5,ANGLEUNIT[\"Degree\",0.0174532925199433]]],CS[Cartesian,2],AXIS[\"Easting (X)\",east,ORDER[1]],AXIS[\"Northing (Y)\",north,ORDER[2]],LENGTHUNIT[\"Foot_US\",0.3048006096012192]]",
   "wkt": "PROJCS[\"NAD_1983_California_zone_3_ftUS\",GEOGCS[\"GCS_North_American_1983\",DATUM[\"D_North_American_1983\",SPHEROID[\"GRS_1980\",6378137.0,298.257222101]],PRIMEM[\"Greenwich\",0.0],UNIT[\"Degree\",0.0174532925199433]],PROJECTION[\"Lambert_Conformal_Conic\"],PARAMETER[\"false_easting\",6561666.667],PARAMETER[\"false_northing\",1640416.667],PARAMETER[\"central_meridian\",-120.5],PARAMETER[\"standard_parallel_1\",37.06666666666667],PARAMETER[\"standard_parallel_2\",38.43333333333333],PARAMETER[\"latitude_of_origin\",36.5],UNIT[\"Foot_US\",0.3048006096012192]]"
  }
 },
 "fullExtent": {
  "xmin": 6098000.000333333,
  "ymin": 1927000.0003333252,
  "xmax": 6128000.000333337,
  "ymax": 1951000.0003333355,
  "spatialReference": {
   "wkt2": "PROJCRS[\"NAD_1983_California_zone_3_ftUS\",BASEGEOGCRS[\"GCS_North_American_1983\",DATUM[\"D_North_American_1983\",ELLIPSOID[\"GRS_1980\",6378137.0,298.257222101,LENGTHUNIT[\"Meter\",1.0]]],PRIMEM[\"Greenwich\",0.0,ANGLEUNIT[\"Degree\",0.0174532925199433]],CS[ellipsoidal,2],ANGLEUNIT[\"Degree\",0.0174532925199433]],CONVERSION[\"Lambert_Conformal_Conic\",METHOD[\"Lambert_Conformal_Conic\"],PARAMETER[\"false_easting\",6561666.667,LENGTHUNIT[\"Foot_US\",0.3048006096012192]],PARAMETER[\"false_northing\",1640416.667,LENGTHUNIT[\"Foot_US\",0.3048006096012192]],PARAMETER[\"central_meridian\",-120.5,ANGLEUNIT[\"Degree\",0.0174532925199433]],PARAMETER[\"standard_parallel_1\",37.06666666666667,ANGLEUNIT[\"Degree\",0.0174532925199433]],PARAMETER[\"standard_parallel_2\",38.43333333333333,ANGLEUNIT[\"Degree\",0.0174532925199433]],PARAMETER[\"latitude_of_origin\",36.5,ANGLEUNIT[\"Degree\",0.0174532925199433]]],CS[Cartesian,2],AXIS[\"Easting (X)\",east,ORDER[1]],AXIS[\"Northing (Y)\",north,ORDER[2]],LENGTHUNIT[\"Foot_US\",0.3048006096012192]]",
   "wkt": "PROJCS[\"NAD_1983_California_zone_3_ftUS\",GEOGCS[\"GCS_North_American_1983\",DATUM[\"D_North_American_1983\",SPHEROID[\"GRS_1980\",6378137.0,298.257222101]],PRIMEM[\"Greenwich\",0.0],UNIT[\"Degree\",0.0174532925199433]],PROJECTION[\"Lambert_Conformal_Conic\"],PARAMETER[\"false_easting\",6561666.667],PARAMETER[\"false_northing\",1640416.667],PARAMETER[\"central_meridian\",-120.5],PARAMETER[\"standard_parallel_1\",37.06666666666667],PARAMETER[\"standard_parallel_2\",38.43333333333333],PARAMETER[\"latitude_of_origin\",36.5],UNIT[\"Foot_US\",0.3048006096012192]]"
  }
 },
 "sortableFields": "",
 "bandCount": 3,
 "pixelType": "U8",
 "minValues": [
  29,
  41,
  39
 ],
 "maxValues": [
  255,
  255,
  255
 ],
 "meanValues": [
  141.64983772088,
  144.00288496213,
  136.40209159755
 ],
 "stdvValues": [
  56.366187828679,
  54.490082791111,
  57.52012040099
 ],
 "hasMultidimensions": false,
 "pixelSizeX": 0.25,
 "pixelSizeY": 0.25,
 "meanPixelSize": 0.07620015240030481,
 "datasetFormat": "MrSID",
 "uncompressedSize": 34560000000,
 "blockWidth": 1024,
 "blockHeight": 128,
 "compressionType": "Wavelet (MG3)",
 "bandNames": [
  "Band_1",
  "Band_2",
  "Band_3"
 ],
 "allowCopy": true,
 "allowAnalysis": true,
 "itemAccess": false,
 "inspectionCapabilities": "",
 "minPixelSize": 0.08680555555555554,
 "maxPixelSize": 27.777777777777775,
 "copyrightText": "",
 "serviceDataType": "esriImageServiceDataTypeRGB",
 "serviceSourceType": "esriImageServiceSourceTypeDataset",
 "objectIdField": "",
 "fields": [],
 "capabilities": "Mensuration,Image,Metadata",
 "defaultMosaicMethod": "Center",
 "allowedMosaicMethods": "",
 "sortField": "",
 "sortValue": null,
 "sortAscending": true,
 "mosaicOperator": "First",
 "defaultCompressionQuality": 75,
 "defaultResamplingMethod": "Bilinear",
 "maxImageHeight": 4100,
 "maxImageWidth": 15000,
 "singleFusedMapCache": true,
 "tileInfo": {
  "rows": 256,
  "cols": 256,
  "dpi": 96,
  "format": "MIXED",
  "compressionQuality": 75,
  "origin": {
   "x": -115860600,
   "y": 151575000
  },
  "spatialReference": {
   "wkt2": "PROJCRS[\"NAD_1983_California_zone_3_ftUS\",BASEGEOGCRS[\"GCS_North_American_1983\",DATUM[\"D_North_American_1983\",ELLIPSOID[\"GRS_1980\",6378137.0,298.257222101,LENGTHUNIT[\"Meter\",1.0]]],PRIMEM[\"Greenwich\",0.0,ANGLEUNIT[\"Degree\",0.0174532925199433]],CS[ellipsoidal,2],ANGLEUNIT[\"Degree\",0.0174532925199433]],CONVERSION[\"Lambert_Conformal_Conic\",METHOD[\"Lambert_Conformal_Conic\"],PARAMETER[\"false_easting\",6561666.667,LENGTHUNIT[\"Foot_US\",0.3048006096012192]],PARAMETER[\"false_northing\",1640416.667,LENGTHUNIT[\"Foot_US\",0.3048006096012192]],PARAMETER[\"central_meridian\",-120.5,ANGLEUNIT[\"Degree\",0.0174532925199433]],PARAMETER[\"standard_parallel_1\",37.06666666666667,ANGLEUNIT[\"Degree\",0.0174532925199433]],PARAMETER[\"standard_parallel_2\",38.43333333333333,ANGLEUNIT[\"Degree\",0.0174532925199433]],PARAMETER[\"latitude_of_origin\",36.5,ANGLEUNIT[\"Degree\",0.0174532925199433]]],CS[Cartesian,2],AXIS[\"Easting (X)\",east,ORDER[1]],AXIS[\"Northing (Y)\",north,ORDER[2]],LENGTHUNIT[\"Foot_US\",0.3048006096012192]]",
   "wkt": "PROJCS[\"NAD_1983_California_zone_3_ftUS\",GEOGCS[\"GCS_North_American_1983\",DATUM[\"D_North_American_1983\",SPHEROID[\"GRS_1980\",6378137.0,298.257222101]],PRIMEM[\"Greenwich\",0.0],UNIT[\"Degree\",0.0174532925199433]],PROJECTION[\"Lambert_Conformal_Conic\"],PARAMETER[\"false_easting\",6561666.667],PARAMETER[\"false_northing\",1640416.667],PARAMETER[\"central_meridian\",-120.5],PARAMETER[\"standard_parallel_1\",37.06666666666667],PARAMETER[\"standard_parallel_2\",38.43333333333333],PARAMETER[\"latitude_of_origin\",36.5],UNIT[\"Foot_US\",0.3048006096012192]]"
  },
  "lods": [
   {
    "level": 0,
    "resolution": 27.777777777777775,
    "scale": 32000
   },
   {
    "level": 1,
    "resolution": 13.888888888888888,
    "scale": 16000
   },
   {
    "level": 2,
    "resolution": 6.944444444444444,
    "scale": 8000
   },
   {
    "level": 3,
    "resolution": 3.472222222222222,
    "scale": 4000
   },
   {
    "level": 4,
    "resolution": 1.736111111111111,
    "scale": 2000
   },
   {
    "level": 5,
    "resolution": 0.8680555555555555,
    "scale": 1000
   },
   {
    "level": 6,
    "resolution": 0.43402777777777773,
    "scale": 500
   },
   {
    "level": 7,
    "resolution": 0.21701388888888887,
    "scale": 250
   },
   {
    "level": 8,
    "resolution": 0.08680555555555555,
    "scale": 100
   }
  ]
 },
 "storageInfo": {
  "storageFormat": "esriMapCacheStorageModeCompactV2",
  "packetSize": 128
 },
 "cacheType": "Map",
 "allowRasterFunction": true,
 "rasterFunctionInfos": [
  {
   "name": "None",
   "description": "",
   "help": ""
  }
 ],
 "rasterTypeInfos": [
  {
   "name": "Raster Dataset",
   "description": "Supports all ArcGIS Raster Datasets",
   "help": ""
  }
 ],
 "mensurationCapabilities": "Basic",
 "hasHistograms": true,
 "hasColormap": false,
 "hasRasterAttributeTable": false,
 "minScale": 32000,
 "maxScale": 100,
 "minLOD": 0,
 "maxLOD": 8,
 "exportTilesAllowed": false,
 "supportsStatistics": false,
 "supportsAdvancedQueries": false,
 "editFieldsInfo": null,
 "ownershipBasedAccessControlForRasters": null,
 "allowComputeTiePoints": false,
 "useStandardizedQueries": true,
 "advancedQueryCapabilities": {
  "useStandardizedQueries": true,
  "supportsStatistics": false,
  "supportsOrderBy": false,
  "supportsDistinct": false,
  "supportsPagination": false
 },
 "spatialReference": {
  "wkt2": "PROJCRS[\"NAD_1983_California_zone_3_ftUS\",BASEGEOGCRS[\"GCS_North_American_1983\",DATUM[\"D_North_American_1983\",ELLIPSOID[\"GRS_1980\",6378137.0,298.257222101,LENGTHUNIT[\"Meter\",1.0]]],PRIMEM[\"Greenwich\",0.0,ANGLEUNIT[\"Degree\",0.0174532925199433]],CS[ellipsoidal,2],ANGLEUNIT[\"Degree\",0.0174532925199433]],CONVERSION[\"Lambert_Conformal_Conic\",METHOD[\"Lambert_Conformal_Conic\"],PARAMETER[\"false_easting\",6561666.667,LENGTHUNIT[\"Foot_US\",0.3048006096012192]],PARAMETER[\"false_northing\",1640416.667,LENGTHUNIT[\"Foot_US\",0.3048006096012192]],PARAMETER[\"central_meridian\",-120.5,ANGLEUNIT[\"Degree\",0.0174532925199433]],PARAMETER[\"standard_parallel_1\",37.06666666666667,ANGLEUNIT[\"Degree\",0.0174532925199433]],PARAMETER[\"standard_parallel_2\",38.43333333333333,ANGLEUNIT[\"Degree\",0.0174532925199433]],PARAMETER[\"latitude_of_origin\",36.5,ANGLEUNIT[\"Degree\",0.0174532925199433]]],CS[Cartesian,2],AXIS[\"Easting (X)\",east,ORDER[1]],AXIS[\"Northing (Y)\",north,ORDER[2]],LENGTHUNIT[\"Foot_US\",0.3048006096012192]]",
  "wkt": "PROJCS[\"NAD_1983_California_zone_3_ftUS\",GEOGCS[\"GCS_North_American_1983\",DATUM[\"D_North_American_1983\",SPHEROID[\"GRS_1980\",6378137.0,298.257222101]],PRIMEM[\"Greenwich\",0.0],UNIT[\"Degree\",0.0174532925199433]],PROJECTION[\"Lambert_Conformal_Conic\"],PARAMETER[\"false_easting\",6561666.667],PARAMETER[\"false_northing\",1640416.667],PARAMETER[\"central_meridian\",-120.5],PARAMETER[\"standard_parallel_1\",37.06666666666667],PARAMETER[\"standard_parallel_2\",38.43333333333333],PARAMETER[\"latitude_of_origin\",36.5],UNIT[\"Foot_US\",0.3048006096012192]]"
 },
 "resampling": false
}
